BEGIN:VCALENDAR
VERSION:2.0
PRODID:-//Tukios.com/
BEGIN:VEVENT
UID:805db733-fde1-44e1-abc6-e35c290f0415@obituaries.floralhillsmemorialgardens.com
DTSTAMP:20260425T204416Z
DTSTART:20260502T140000Z
DTEND:20260502T150000Z
SUMMARY:Prayer Service
DESCRIPTION:
URL:https://obituaries.floralhillsmemorialgardens.com/obituaries/adam-aldulijan
LOCATION:St. Pius X Catholic Church 348 Dudley Road  Edgewood KY 41017
GEO:39.0106609;-84.5690815
END:VEVENT
END:VCALENDAR