BEGIN:VCALENDAR
VERSION:2.0
PRODID:-//Tukios.com/
BEGIN:VEVENT
UID:bd3fbe89-d6f7-42cb-a24f-976726418189@obituaries.floralhillsmemorialgardens.com
DTSTAMP:20260425T231849Z
DTSTART:20260428T210000Z
DTEND:20260428T230000Z
SUMMARY:Visitation
DESCRIPTION:
URL:https://obituaries.floralhillsmemorialgardens.com/obituaries/earl-e-vaught
LOCATION:Floral Hills Funeral Home 5336 Old Taylor Mill Rd  Covington KY 
	41015
GEO:39.0007318;-84.5034917
END:VEVENT
END:VCALENDAR