BEGIN:VCALENDAR
VERSION:2.0
PRODID:-//Tukios.com/
BEGIN:VEVENT
UID:184cbb12-d5bd-4687-b29d-cdb81cd06ad2@obituaries.floralhillsmemorialgardens.com
DTSTAMP:20260425T231420Z
DTSTART:20260428T230000Z
DTEND:20260429T000000Z
SUMMARY:Funeral Service
DESCRIPTION:
URL:https://obituaries.floralhillsmemorialgardens.com/obituaries/earl-e-vaught
LOCATION:Floral Hills Funeral Home 5336 Old Taylor Mill Rd  Covington KY 
	41015
GEO:39.0007318;-84.5034917
END:VEVENT
END:VCALENDAR