BEGIN:VCALENDAR
VERSION:2.0
PRODID:-//Tukios.com/
BEGIN:VEVENT
UID:68abb7d5-b50b-43b9-84d1-4ae783e694b6@obituaries.floralhillsmemorialgardens.com
DTSTAMP:20260422T171437Z
DTSTART:20260427T150000Z
DTEND:20260427T170000Z
SUMMARY:Visitation
DESCRIPTION:
URL:https://obituaries.floralhillsmemorialgardens.com/obituaries/joseph-vice
LOCATION: 5336 Old Taylor Mill Rd  Covington KY 41015
GEO:39.0007981;-84.5034811
END:VEVENT
END:VCALENDAR