BEGIN:VCALENDAR
VERSION:2.0
PRODID:-//Tukios.com/
BEGIN:VEVENT
UID:08d94379-ea17-4941-9340-601d0e646500@obituaries.floralhillsmemorialgardens.com
DTSTAMP:20260422T172214Z
DTSTART:20260427T170000Z
DTEND:20260427T180000Z
SUMMARY:Funeral Service
DESCRIPTION:
URL:https://obituaries.floralhillsmemorialgardens.com/obituaries/joseph-vice
LOCATION:Floral Hills Funeral Home 5336 Old Taylor Mill Rd  Covington KY 
	41015
GEO:39.0007318;-84.5034917
END:VEVENT
END:VCALENDAR