BEGIN:VCALENDAR
VERSION:2.0
PRODID:-//Tukios.com/
BEGIN:VEVENT
UID:b6e80648-c84c-4f00-a8fd-7bdff0f585fa@obituaries.floralhillsmemorialgardens.com
DTSTAMP:20260422T163104Z
DTSTART:20260429T170000Z
DTEND:20260429T180000Z
SUMMARY:Funeral Service
DESCRIPTION:
URL:https://obituaries.floralhillsmemorialgardens.com/obituaries/lynn-richmond
LOCATION:Floral Hills Funeral Home 5336 Old Taylor Mill Rd  Covington KY 
	41015
GEO:39.0007318;-84.5034917
END:VEVENT
END:VCALENDAR