BEGIN:VCALENDAR
VERSION:2.0
PRODID:-//Tukios.com/
BEGIN:VEVENT
UID:403d7415-463f-4225-b43a-aad3e5e29aa7@obituaries.floralhillsmemorialgardens.com
DTSTAMP:20260421T173258Z
DTSTART:20260424T150000Z
DTEND:20260424T170000Z
SUMMARY:Visitation
DESCRIPTION:
URL:https://obituaries.floralhillsmemorialgardens.com/obituaries/robert-bauer
LOCATION:Floral Hills Funeral Home 5336 Old Taylor Mill Rd  Covington KY 
	41015
GEO:39.0007318;-84.5034917
END:VEVENT
END:VCALENDAR