BEGIN:VCALENDAR
VERSION:2.0
PRODID:-//Tukios.com/
BEGIN:VEVENT
UID:4ad6d396-2e6d-43b6-883a-59a859bc330a@obituaries.floralhillsmemorialgardens.com
DTSTAMP:20260421T173429Z
DTSTART:20260424T170000Z
DTEND:20260424T180000Z
SUMMARY:Funeral Service
DESCRIPTION:
URL:https://obituaries.floralhillsmemorialgardens.com/obituaries/robert-bauer
LOCATION:Floral Hills Funeral Home 5336 Old Taylor Mill Rd  Covington KY 
	41015
GEO:39.0007318;-84.5034917
END:VEVENT
END:VCALENDAR