BEGIN:VCALENDAR
VERSION:2.0
PRODID:-//Tukios.com/
BEGIN:VEVENT
UID:852d03ea-556c-47ff-b7d1-17c6a5612420@obituaries.floralhillsmemorialgardens.com
DTSTAMP:20260421T212452Z
DTSTART:20260501T170000Z
DTEND:20260501T180000Z
SUMMARY:Memorial Service
DESCRIPTION:
URL:https://obituaries.floralhillsmemorialgardens.com/obituaries/suzanne-wikas
LOCATION:Floral Hills Funeral Home 5336 Old Taylor Mill Rd  Covington KY 
	41015
GEO:39.0007318;-84.5034917
END:VEVENT
END:VCALENDAR